BEGIN:VCALENDAR
VERSION:2.0
PRODID:-//Saint Clair Beekeepers Association - ECPv6.15.20//NONSGML v1.0//EN
CALSCALE:GREGORIAN
METHOD:PUBLISH
X-ORIGINAL-URL:https://stclairbees.com
X-WR-CALDESC:Events for Saint Clair Beekeepers Association
REFRESH-INTERVAL;VALUE=DURATION:PT1H
X-Robots-Tag:noindex
X-PUBLISHED-TTL:PT1H
BEGIN:VTIMEZONE
TZID:America/Chicago
BEGIN:DAYLIGHT
TZOFFSETFROM:-0600
TZOFFSETTO:-0500
TZNAME:CDT
DTSTART:20250309T080000
END:DAYLIGHT
BEGIN:STANDARD
TZOFFSETFROM:-0500
TZOFFSETTO:-0600
TZNAME:CST
DTSTART:20251102T070000
END:STANDARD
BEGIN:DAYLIGHT
TZOFFSETFROM:-0600
TZOFFSETTO:-0500
TZNAME:CDT
DTSTART:20260308T080000
END:DAYLIGHT
BEGIN:STANDARD
TZOFFSETFROM:-0500
TZOFFSETTO:-0600
TZNAME:CST
DTSTART:20261101T070000
END:STANDARD
BEGIN:DAYLIGHT
TZOFFSETFROM:-0600
TZOFFSETTO:-0500
TZNAME:CDT
DTSTART:20270314T080000
END:DAYLIGHT
BEGIN:STANDARD
TZOFFSETFROM:-0500
TZOFFSETTO:-0600
TZNAME:CST
DTSTART:20271107T070000
END:STANDARD
END:VTIMEZONE
BEGIN:VEVENT
DTSTART;TZID=America/Chicago:20260106T080000
DTEND;TZID=America/Chicago:20260106T170000
DTSTAMP:20260422T105840
CREATED:20260106T151311Z
LAST-MODIFIED:20260106T151311Z
UID:5916-1767686400-1767718800@stclairbees.com
SUMMARY:April 2026 Membership Meeting
DESCRIPTION:Our April meeting will be held on April 24\, 2026 at the Madison County Farm Bureau building in Edwardsville.  Meeting begins at 7pm and doors open at 630pm. \nTopic and Speaker: TBD
URL:https://stclairbees.com/event/april-2026-membership-meeting/
LOCATION:Madison County Farm Bureau\, 900 Hillsboro Ave\, Edwardsville\, IL\, 62025\, United States
CATEGORIES:Monthly Meetings
END:VEVENT
BEGIN:VEVENT
DTSTART;TZID=America/Chicago:20260130T190000
DTEND;TZID=America/Chicago:20260130T210000
DTSTAMP:20260422T105840
CREATED:20260106T150608Z
LAST-MODIFIED:20260127T133416Z
UID:5910-1769799600-1769806800@stclairbees.com
SUMMARY:January 2026 Membership Meeting
DESCRIPTION:January Membership meeting will be held on January 30\, 2026 at the St. Clair County Farm Bureau.  The meeting will begin at 7pm and doors will open at 630pm. \nTopic and Speaker:  Marc Mayhew will speak on splitting hives as a strategy to reduce swarming.   Julie McKinney will also be speaking about producing Ross Round comb honey.
URL:https://stclairbees.com/event/january-2026-membership-meeting/
LOCATION:St. Clair County Farm Bureau\, 1478 IL-15\, Belleville\, IL\, 62221\, United States
CATEGORIES:Monthly Meetings
END:VEVENT
END:VCALENDAR