BEGIN:VCALENDAR
VERSION:2.0
PRODID:-//Saint Clair Beekeepers Association - ECPv6.15.20//NONSGML v1.0//EN
CALSCALE:GREGORIAN
METHOD:PUBLISH
X-WR-CALNAME:Saint Clair Beekeepers Association
X-ORIGINAL-URL:https://stclairbees.com
X-WR-CALDESC:Events for Saint Clair Beekeepers Association
REFRESH-INTERVAL;VALUE=DURATION:PT1H
X-Robots-Tag:noindex
X-PUBLISHED-TTL:PT1H
BEGIN:VTIMEZONE
TZID:America/Chicago
BEGIN:DAYLIGHT
TZOFFSETFROM:-0600
TZOFFSETTO:-0500
TZNAME:CDT
DTSTART:20240310T080000
END:DAYLIGHT
BEGIN:STANDARD
TZOFFSETFROM:-0500
TZOFFSETTO:-0600
TZNAME:CST
DTSTART:20241103T070000
END:STANDARD
BEGIN:DAYLIGHT
TZOFFSETFROM:-0600
TZOFFSETTO:-0500
TZNAME:CDT
DTSTART:20250309T080000
END:DAYLIGHT
BEGIN:STANDARD
TZOFFSETFROM:-0500
TZOFFSETTO:-0600
TZNAME:CST
DTSTART:20251102T070000
END:STANDARD
BEGIN:DAYLIGHT
TZOFFSETFROM:-0600
TZOFFSETTO:-0500
TZNAME:CDT
DTSTART:20260308T080000
END:DAYLIGHT
BEGIN:STANDARD
TZOFFSETFROM:-0500
TZOFFSETTO:-0600
TZNAME:CST
DTSTART:20261101T070000
END:STANDARD
END:VTIMEZONE
BEGIN:VEVENT
DTSTART;TZID=America/Chicago:20251024T190000
DTEND;TZID=America/Chicago:20251024T210000
DTSTAMP:20260424T041937
CREATED:20251013T165728Z
LAST-MODIFIED:20251023T155630Z
UID:5811-1761332400-1761339600@stclairbees.com
SUMMARY:October 2025 Meeting
DESCRIPTION:Our October meeting is scheduled for October 24\,2025 at the St. Clair County Farm Bureau building  (1479 IL-15; Belleville\, IL)  Doors will open at 630pm and the meeting will begin at 7pm.   We are excited to have club member Ken Schaefer present a talk on the history of the club at this meeting.  For the educational component of our meeting\, Jane Sueme -owner of Isabee’s in Fenton will be talking on preparing colonies for winter.
URL:https://stclairbees.com/event/october-2025-meeting/
LOCATION:St. Clair County Farm Bureau\, 1478 IL-15\, Belleville\, IL\, 62221\, United States
CATEGORIES:Monthly Meetings
END:VEVENT
END:VCALENDAR